BEGIN:VCALENDAR
VERSION:2.0
PRODID:-//Tukios.com/
BEGIN:VEVENT
UID:874ebcf1-b369-4c8b-ae6c-92a8a94073a0@www.quinn-shalz.com
DTSTAMP:20260421T232315Z
DTSTART:20260605T150000Z
DTEND:20260605T160000Z
SUMMARY:Memorial Service
DESCRIPTION:
URL:https://www.quinn-shalz.com/obituaries/ralph-sawyer
LOCATION: 400 San Juan Dr  Ponte Vedra Beach FL 32082
GEO:30.2282878;-81.380621
END:VEVENT
END:VCALENDAR