BEGIN:VCALENDAR
VERSION:2.0
PRODID:-//Tukios.com/
BEGIN:VEVENT
UID:8512c430-d8df-4682-a13d-6261d4eeda37@www.quinn-shalz.com
DTSTAMP:20260423T084149Z
DTSTART:20260418T150000Z
DTEND:20260418T160000Z
SUMMARY:Memorial Service
DESCRIPTION:
URL:https://www.quinn-shalz.com/obituaries/georgia-white
LOCATION: 3410 3rd St S  Jacksonville Beach FL 32250
GEO:30.2624084;-81.3883744
END:VEVENT
END:VCALENDAR