BEGIN:VCALENDAR
VERSION:2.0
PRODID:-//Tukios.com/
BEGIN:VEVENT
UID:1ba347fd-38fd-4bc2-9d7b-bc507f5647dd@www.quinn-shalz.com
DTSTAMP:20260423T233816Z
DTSTART:20260425T170000Z
DTEND:20260425T180000Z
SUMMARY:Celebration of Life
DESCRIPTION:
URL:https://www.quinn-shalz.com/obituaries/charlene-leavy
LOCATION:beachside ceremony behind the residence 11 19th Avenue North  
	Jacksonville Beach FL 32250
GEO:30.3073429;-81.3924522
END:VEVENT
END:VCALENDAR